BEGIN:VCALENDAR
PRODID:-//hacksw/handcal//NONSGML v1.0//EN
VERSION:2.0
METHOD:PUBLISH
BEGIN:VEVENT
DTSTART:20151028T120000Z
DTEND:20151028T133000Z
LOCATION:U.S. Trust | 730 15th Street, NW, Washington, DC 20005
UID:1193420151028T120000ZTransforming Social Security into a Winning Retirement Strategy | U.S. Trust, DC | 8-9:30 a.m.
DTSTAMP:20260423T170710Z
DESCRIPTION:\nProgram Description and Benefits:\n Longer life expectancies have changed the face of retirement planning making Social Security an important longevity annuity.  When to begin taking Social Security benefits is an important and multi-faceted decision.  This program will cover the many considerations and strategies for optimizing Social Security benefits.  Case scenarios will address:\n What advice should you give your clients about collecting benefits?   What’s the cost of collecting early? When is waiting to collect benefits an advantageous strategy? How is the decision different for a married couple versus an individual? How do the relative earnings of married spouses influence the decision? When does it make sense to file and suspend benefits? \nOne Continuing Education Credit: Insurance, PACE, CPA, CFP®\n \nSpeaker Biography:\n Michael Graci is a Director of Investment and Retirement Education for BlackRock® and is responsible for the development and delivery of wealth management programs.  Michael received his Bachelor of Science degree from Pennsylvania State University. His professional designations include Accredited Investment Fiduciary (AIF) and Accredited Retirement Plan Consultant (ARPC).\n \nLogistics:\n Cost: $30 for members | $35 for guests and emeritus members Via Metro: McPherson Square stop
SUMMARY:Transforming Social Security into a Winning Retirement Strategy | U.S. Trust, DC | 8-9:30 a.m. - Washington, D.C. Estate Planning Council 
PRIORITY:3
BEGIN:VALARM
TRIGGER:PT18H
ACTION:DISPLAY
DESCRIPTION:Reminder
END:VALARM
END:VEVENT
END:VCALENDAR