BEGIN:VCALENDAR
PRODID:-//hacksw/handcal//NONSGML v1.0//EN
VERSION:2.0
METHOD:PUBLISH
BEGIN:VEVENT
DTSTART:20150921T153000Z
DTEND:20150921T230000Z
LOCATION:Hidden Creek Country Club | 1711 Clubhouse Road, Reston, VA 20190
UID:1193620150921T153000ZGolf Tournament & Beginner Clinic | Hidden Creek CC, Reston, VA | 1 p.m.
DTSTAMP:20260423T170742Z
DESCRIPTION:\nYou may [REGISTER ONLINE](http://www.wdcepc.org/events/register/11936) or by downloading the [REGISTRATION MATERIALS](http://www.wdcepc.org/assets/Councils/Washington-DC/userContent/files/2015%20Golf%20Updated%20Tournament%20Registration%20Players%20and%20Sponsors.pdf). The Golf Tournament counts toward the two-event attendance requirement for prospective members!\n \nMany thanks to our [confirmed sponsors](http://www.wdcepc.org/council/sponsors).  It's not too late to add your firm to our growing list of sponsors.\n \nDinner will include live auctions of a Washington Capitals hockey stick signed by star [Nicklas Backstrom](http://capitals.nhl.com/club/player.htm?id=8473563) and a case of wine selected & donated by Scott Greenberg!\n \n\n \n \n
SUMMARY:Golf Tournament & Beginner Clinic | Hidden Creek CC, Reston, VA | 1 p.m. - Washington, D.C. Estate Planning Council 
PRIORITY:3
BEGIN:VALARM
TRIGGER:PT18H
ACTION:DISPLAY
DESCRIPTION:Reminder
END:VALARM
END:VEVENT
END:VCALENDAR