BEGIN:VCALENDAR
PRODID:-//hacksw/handcal//NONSGML v1.0//EN
VERSION:2.0
METHOD:PUBLISH
BEGIN:VEVENT
DTSTART:20141119T220000Z
DTEND:20141120T000000Z
LOCATION:City Club
UID:1203420141119T220000ZEconomic and Treasury Department Updates I City Club I 5-7 pm
DTSTAMP:20260423T171105Z
DESCRIPTION:
SUMMARY:Economic and Treasury Department Updates I City Club I 5-7 pm - Washington, D.C. Estate Planning Council 
PRIORITY:3
BEGIN:VALARM
TRIGGER:PT18H
ACTION:DISPLAY
DESCRIPTION:Reminder
END:VALARM
END:VEVENT
END:VCALENDAR