BEGIN:VCALENDAR
PRODID:-//hacksw/handcal//NONSGML v1.0//EN
VERSION:2.0
METHOD:PUBLISH
BEGIN:VEVENT
DTSTART:20160926T160000Z
DTEND:20160927T000000Z
LOCATION:Kenwood Country Club | 5601 River Rd, Bethesda, MD 20816
UID:1293020160926T160000ZGolf Tournament, Beginner Clinic, Reception & Dinner | Kenwood Country Club, Bethesda, MD | 12:00 p.m.
DTSTAMP:20260423T170342Z
DESCRIPTION:\nYou may [REGISTER ONLINE](http://www.wdcepc.org/events/register/12930) or by downloading the [REGISTRATION MATERIALS](http://www.wdcepc.org/assets/Councils/Washington-DC/library/2016%20Golf%20Tournament%20Registration%20Players%20and%20Sponsors.pdf). The Golf Tournament (or just attending the reception and dinner that evening) counts toward the two-event attendance requirement for prospective members!\n \nMany thanks to our [confirmed sponsors](http://www.wdcepc.org/council/sponsors).  It's not too late to add your firm to our growing list of sponsors.\n  \n \n[2015 Tournament Sponsors](https://admin.naepc.org/assets/Councils/Washington-DC/library/2015%20WDCEPC%20Golf%20Tournament%20Sponsors.pdf)\n \n[2015 Tournament Photos](http://www.wdcepc.org/council/gallery)\n \n\n \n \n
SUMMARY:Golf Tournament, Beginner Clinic, Reception & Dinner | Kenwood Country Club, Bethesda, MD | 12:00 p.m. - Washington, D.C. Estate Planning Council 
PRIORITY:3
BEGIN:VALARM
TRIGGER:PT18H
ACTION:DISPLAY
DESCRIPTION:Reminder
END:VALARM
END:VEVENT
END:VCALENDAR