BEGIN:VCALENDAR
PRODID:-//hacksw/handcal//NONSGML v1.0//EN
VERSION:2.0
METHOD:PUBLISH
BEGIN:VEVENT
DTSTART:20160810T200000Z
LOCATION:Nationals Park | 1500 South Capitol Street, SE, Washington, DC 20003
UID:1338020160810T200000ZCouncil Afternoon at the Ballgame | Washington Nationals v. Cleveland Indians
DTSTAMP:20260423T170541Z
DESCRIPTION:\nGo Nationals!  \n \nPlease join your Council colleagues and friends for an afternoon of baseball fun as the Washington Nationals take on the Cleveland Indians on Wednesday, August 10 at 4:05 p.m. at Nats Stadium. The Council has arranged for a block of tickets in the left field mezzanine.\n \nColleagues, friends and family are welcome.\n \nLogistics:\n $35 per ticket Pre-registration and advanced purchase required Tickets will be delivered electronically vie email prior to the game
SUMMARY:Council Afternoon at the Ballgame | Washington Nationals v. Cleveland Indians - Washington, D.C. Estate Planning Council 
PRIORITY:3
BEGIN:VALARM
TRIGGER:PT18H
ACTION:DISPLAY
DESCRIPTION:Reminder
END:VALARM
END:VEVENT
END:VCALENDAR