BEGIN:VCALENDAR
PRODID:-//hacksw/handcal//NONSGML v1.0//EN
VERSION:2.0
METHOD:PUBLISH
BEGIN:VEVENT
DTSTART:20180111T230000Z
DTEND:20180112T010000Z
LOCATION:Pinstripes Georgetown Park | 1064 Wisconsin Ave NW, Washington, DC 20007
UID:1563820180111T230000ZProspective Member Event | Pinstripes Georgetown Park | 6:00 - 8:00 p.m.
DTSTAMP:20260423T170905Z
DESCRIPTION:\nEnjoy a fun evening and introduce a prospective member to the benefits of WDCEPC\n \nConversation | Cocktails and Hors d’oeuvres | Bocce\n \nThis event counts toward the two-meeting requirement for new members.\n \nLogistics:\n A member is welcome to host more than one prospective member Cost: $0 for prospective members & hosts | $60 for unaccompanied members  Via Car: Limited metered street parking is available in the neighborhood – check the signs for details. Paid parking is available in the Georgetown Park Parking Garage. \nMembership:\n [Nomination forms](http://www.wdcepc.org/assets/Councils/Washington-DC/library/Membership%20Application_2017-2018.pdf) are due by March 1, 2018
SUMMARY:Prospective Member Event | Pinstripes Georgetown Park | 6:00 - 8:00 p.m. - Washington, D.C. Estate Planning Council 
PRIORITY:3
BEGIN:VALARM
TRIGGER:PT18H
ACTION:DISPLAY
DESCRIPTION:Reminder
END:VALARM
END:VEVENT
END:VCALENDAR