BEGIN:VCALENDAR
PRODID:-//hacksw/handcal//NONSGML v1.0//EN
VERSION:2.0
METHOD:PUBLISH
BEGIN:VEVENT
DTSTART:20210630T090000Z
DTEND:20210630T090000Z
LOCATION:
UID:1567920210630T090000ZSponsorship
DTSTAMP:20260423T171213Z
DESCRIPTION:\n\n
SUMMARY:Sponsorship - Washington, D.C. Estate Planning Council 
PRIORITY:3
BEGIN:VALARM
TRIGGER:PT18H
ACTION:DISPLAY
DESCRIPTION:Reminder
END:VALARM
END:VEVENT
END:VCALENDAR