BEGIN:VCALENDAR
PRODID:-//hacksw/handcal//NONSGML v1.0//EN
VERSION:2.0
METHOD:PUBLISH
BEGIN:VEVENT
DTSTART:20180118T130000Z
DTEND:20180118T150000Z
LOCATION:PNC Wealth Management | 800 17th Street, 12th Floor, NW, Washington, D.C. 20006
UID:1568520180118T130000ZTax Reform Review | PNC Offices | 8:00 - 10:00 am
DTSTAMP:20260423T172131Z
DESCRIPTION:\nTHIS EVENT IS SOLD OUT\n \nThank you to our meeting sponsor\n \n\n \nProgram Description and Benefits:\n Now that comprehensive tax reform is law, the Council has scheduled a breakfast session to examine the details. Learn what this new law will mean for your clients and your practice. Details on various estate planning provisions, as well as other significant changes in tax law, will be discussed.\n \n \n \nSpeaker Biography: \n Irene Chase Estrada, J.D., CFP®, is the Managing Director, Private Company Services, at PwC. She serves as a national technical resource for high net worth individual and family tax planning with a focus on estate, gift, and trust matters. Prior to joining PwC, Ms. Estrada held similar posts at KPMG and PNC Wealth Management. She received her J.D. from the University of Chicago.\n \n \n \nLogistics:\n Buffet breakfast will be served. Fees: Active members $30; $35 for guests and emeritus members Guests warmly welcome when accompanied by a member Via Metro: Farragut North (red line) and Farragut West (blue/orange/silver lines) Via Car: Parking is available in the building. Enter the garage from H Street between 17th and 18th Streets.
SUMMARY:Tax Reform Review | PNC Offices | 8:00 - 10:00 am - Washington, D.C. Estate Planning Council 
PRIORITY:3
BEGIN:VALARM
TRIGGER:PT18H
ACTION:DISPLAY
DESCRIPTION:Reminder
END:VALARM
END:VEVENT
END:VCALENDAR