BEGIN:VCALENDAR
PRODID:-//hacksw/handcal//NONSGML v1.0//EN
VERSION:2.0
METHOD:PUBLISH
BEGIN:VEVENT
DTSTART:20180607T220000Z
DTEND:20180608T010000Z
LOCATION:Cosmos Club | 2121 Massachusetts Ave NW, Washington, DC 20008
UID:1595920180607T220000ZAnnual Membership Meeting | Cosmos Club | 6 - 9 pm
DTSTAMP:20260423T170704Z
DESCRIPTION:\nThank you to our meeting sponsor\n\n \nPlease join us for an elegant, members only evening at the historic Cosmos Club, beginning with a garden reception and then dinner. The event will be a great opportunity to socialize with your colleagues, welcome our new members, and thank the officers, directors, and committee members who worked so hard this year. We also will vote for the slate of officers and directors for the upcoming fiscal year and honor our emeritus members. There is no formal program.  \n \n \nLogistics:\n WDCEPC members only 6 p.m. cocktails and tour | 7 p.m. dinner Cost: $75 per member | No charge for new members Limited parking may be available at the Cosmos Club. $15 payable to the Council at our badge pick up/registration desk. Alternate Parking available at Cental Park at either 11 DuPont Circle or 1800 Massachusetts Avenue or at the Hilton on Embassy Row hotel Closest Metro - Dupont Circle Station (Red Line) Business attire required - coat and tie for men
SUMMARY:Annual Membership Meeting | Cosmos Club | 6 - 9 pm - Washington, D.C. Estate Planning Council 
PRIORITY:3
BEGIN:VALARM
TRIGGER:PT18H
ACTION:DISPLAY
DESCRIPTION:Reminder
END:VALARM
END:VEVENT
END:VCALENDAR