BEGIN:VCALENDAR
PRODID:-//hacksw/handcal//NONSGML v1.0//EN
VERSION:2.0
METHOD:PUBLISH
BEGIN:VEVENT
DTSTART:20190109T230000Z
DTEND:20190110T010000Z
LOCATION:Buffalo Billiards | 1330 19th St NW, Washington, DC 20036
UID:1723520190109T230000ZProspective Member Event | Buffalo Billiards 6 - 8 pm
DTSTAMP:20260423T170917Z
DESCRIPTION:\nThank you to our event sponsor\n\n \nEnjoy a fun evening and introduce a prospective member to the benefits of WDCEPC\n \nConversation | Cocktails and Hors d’oeuvres | Pool and Games\n \nThis event counts toward the two-meeting requirement for new members.\n \nLogistics:\n A member is welcome to host more than one prospective member Cost: $0 for prospective members & hosts | $60 for unaccompanied members  Via Metro: Red Line Dupont Circle Station Via Car: Nearby garages and limited metered street parking are available in the neighborhood \nMembership:\n [Nomination forms](http://www.wdcepc.org/assets/Councils/Washington-DC/library/Membership%20Application_2018-2019%20final.pdf) are due by March 1, 2019
SUMMARY:Prospective Member Event | Buffalo Billiards 6 - 8 pm - Washington, D.C. Estate Planning Council 
PRIORITY:3
BEGIN:VALARM
TRIGGER:PT18H
ACTION:DISPLAY
DESCRIPTION:Reminder
END:VALARM
END:VEVENT
END:VCALENDAR