BEGIN:VCALENDAR
PRODID:-//hacksw/handcal//NONSGML v1.0//EN
VERSION:2.0
METHOD:PUBLISH
BEGIN:VEVENT
DTSTART:20190606T220000Z
DTEND:20190607T010000Z
LOCATION:National Press Club | 529 14th St NW, Washington, DC 20045
UID:1766020190606T220000ZAnnual Membership Meeting |National Press Club | 6 - 9 pm
DTSTAMP:20260423T170704Z
DESCRIPTION:\nPlease join us for an elegant, members only evening at the National Press Club, beginning with a reception and then dinner. The event will be a great opportunity to socialize with your colleagues, welcome our new members, and thank the officers, directors, and committee members who worked so hard this year. We also will vote for the slate of officers and directors for the upcoming fiscal year and honor our emeritus members. There is no formal program.  \n \n \nLogistics:\n WDCEPC members only 6 p.m. cocktails | 7 p.m. dinner Cost: $75 per member | No charge for new members Via Metro: Metro Center Station on the Red/Orange/Yellow lines Paid parking is available at several nearby garages. \n \n \n\n
SUMMARY:Annual Membership Meeting |National Press Club | 6 - 9 pm - Washington, D.C. Estate Planning Council 
PRIORITY:3
BEGIN:VALARM
TRIGGER:PT18H
ACTION:DISPLAY
DESCRIPTION:Reminder
END:VALARM
END:VEVENT
END:VCALENDAR