BEGIN:VCALENDAR
PRODID:-//hacksw/handcal//NONSGML v1.0//EN
VERSION:2.0
METHOD:PUBLISH
BEGIN:VEVENT
DTSTART:20190910T120000Z
DTEND:20190910T133000Z
LOCATION:Buchanan Ingersoll & Rooney | 1700 K Street, NW, Suite 300, Washington, DC 20006
UID:1824420190910T120000ZPlanning for the Tech Entrepreneur | Buchanan Ingersoll & Rooney | 8:00 - 9:30 am
DTSTAMP:20260420T231416Z
DESCRIPTION:\nProgram Description and Benefits: \nTech entrepreneurs frequently present unique challenges for estate planners, including hard-to-value assets, the tech market’s breakneck pace and a hesitancy to focus on transfer tax planning due to the entrepreneur’s age and family stage. In this session, we will examine ways of tackling these difficulties in order to remove appreciation in the value of intellectual property and tech business interests from an entrepreneur’s taxable estate, while also addressing such entrepreneur’s need for liquidity and fear of discouraging a future company sale or investment.  Additionally, we will look at the mechanics of such a transfer, including the elements of an effective transfer of intellectual property and corporate and securities law issues to keep in mind. \n \n \nSpeaker Biography: \nJennifer B. Goode is a Founding Partner of Birchstone Moore LLC, a boutique law firm focusing on estate planning and estate administration. In her practice, Ms. Goode assists clients of varying wealth levels with their estate planning, business succession planning and estate and trust administration needs. Ms. Goode is an active member of the Washington estate planning community, serving as a past Chair of the Estate Planning Committee for the D.C. Bar’s Taxation Community and a frequent lecturer at both the D.C. Bar and community events on various estate planning topics.   \n  \nLogistics:\n Fees: $30 for active members; $35 for guests and emeritus members Guests warmly welcome when accompanied by a member Via Metro: Red Line, Farragut North; Blue/Orange/Silver Lines, Farragut West Via Car: Paid parking is available in the building and in various lots nearby
SUMMARY:Planning for the Tech Entrepreneur | Buchanan Ingersoll & Rooney | 8:00 - 9:30 am - Washington, D.C. Estate Planning Council 
PRIORITY:3
BEGIN:VALARM
TRIGGER:PT18H
ACTION:DISPLAY
DESCRIPTION:Reminder
END:VALARM
END:VEVENT
END:VCALENDAR