BEGIN:VCALENDAR
PRODID:-//hacksw/handcal//NONSGML v1.0//EN
VERSION:2.0
METHOD:PUBLISH
BEGIN:VEVENT
DTSTART:20200604T203000Z
DTEND:20200604T213000Z
LOCATION:Via Zoom Video Conference
UID:1941720200604T203000ZAnnual Meeting and Virtual Member Social
DTSTAMP:20260423T171739Z
DESCRIPTION:\nDue to Covid-19, the Annual Membership Meeting will be held in a virtual format. This is a Council member only event.\n \nAgenda:\n Remarks of Current President Introduction of New Members   Election of Officers and Directors Remarks of Incoming President Virtual member social with opportunity to "meet" in three small groups \nLogistics:\n No charge to participate Connection and zoom registration details will be emailed to registrants on Wednesday, June 3 This will be a video conference. Participants will have interactive audio and video during the member social portion of the event.
SUMMARY:Annual Meeting and Virtual Member Social - Washington, D.C. Estate Planning Council 
PRIORITY:3
BEGIN:VALARM
TRIGGER:PT18H
ACTION:DISPLAY
DESCRIPTION:Reminder
END:VALARM
END:VEVENT
END:VCALENDAR