BEGIN:VCALENDAR
PRODID:-//hacksw/handcal//NONSGML v1.0//EN
VERSION:2.0
METHOD:PUBLISH
BEGIN:VEVENT
DTSTART:20200924T210000Z
DTEND:20200924T221500Z
LOCATION:Via Zoom
UID:1992720200924T210000ZVirtual Trivia Night
DTSTAMP:20260423T170419Z
DESCRIPTION:\n \nThank you to our meeting sponsor \n \n \n\n  \nProgram Description and Benefits: \nWho is buried in Grant's tomb? \nWhat is the elevation of the mile high city? \n  \n \nAs we approach month six! of a life filled with virtual meetings and self-isolation, we can all use some extra fun right now! Join your Council friends and colleagues for a friendly show-what-you-know competition of team trivia.  \n  \nMost of the content will be general knowledge, with a few special estate planning questions thrown in. Participants will be divided into randomly-assigned teams that will allow for networking along with the game. The winning team will receive accolades, bragging rights, and a prize. \n\nProfessional trivia hosts District-Trivia will preside over our evening's competition and bring the entertainment, music, and of course, the trivia questions.  \n  \nWith the upheaval caused by the ongoing Covid-19 pandemic, the Council's schedule of in-person meetings is on-hold. Although a full schedule of technical content webinars and other estate planning material will be presented throughout the 2020-2021 program year, we are excited to offer an opportunity for a purely social/networking event to kick-off the fall. \n \nThis event may be used toward the two-meeting requirement for new members nominations.\n  \n  \nLogistics:\n No charge for members | $25 for non-members Connection details will be emailed the day prior to the webinar \n \n \n \n
SUMMARY:Virtual Trivia Night - Washington, D.C. Estate Planning Council 
PRIORITY:3
BEGIN:VALARM
TRIGGER:PT18H
ACTION:DISPLAY
DESCRIPTION:Reminder
END:VALARM
END:VEVENT
END:VCALENDAR