BEGIN:VCALENDAR
PRODID:-//hacksw/handcal//NONSGML v1.0//EN
VERSION:2.0
METHOD:PUBLISH
BEGIN:VEVENT
DTSTART:20210603T220000Z
DTEND:20210604T000000Z
LOCATION:Virtual Via REMO
UID:2027220210603T220000ZVirtual Annual Membership Meeting
DTSTAMP:20260423T171027Z
DESCRIPTION:\nOnce again due to the pandemic we will meet in a virtual format for the members' only Annual Meeting. Council business will include a vote on the slate of officers and directors, introduction of new members, and member story vignettes. There also will be plenty of time to network with fellow Council members.\n\n\n \nThis year members will be treated to a delivered a three-course dinner with wine from reknowned DC restaurant Rose's Luxury. There is no cost for members to participate. If you'd like to order dinner for another member of your household, you may do so at a cost of $100 per person.\n \nDetails:\nDinner\nRose's Luxury will deliver a fixed 3-course dinner and a bottle of white wine to your door on June 3 (within a 30 mile radius of Capitol Hill). It will arrive chilled with easy reheating instructions. A vegetarian option will be available upon request. Please be sure to include your delivery address and cell phone for text delivery message, as well as any dietary restrictions, when you register for the event.\n \nRose's Luxury Custom Dinner\n First Course - Rose's Signature Pork & Lychee Salad with red onion, peanuts, fresh herbs, lime & coconut habanero (non-meat option available - please specify when registering) Entrée - Slowly Cooked Salmon with dill pistou, summer squashes and lemongrass cream (vegetarian alternative - Braised Celery Root) Dessert - Harry's Strawberries with La Tur cheese and strawberry gastrique \nYou must register by May 26 to receive a meal.\n \n \n \n \n \n \n
SUMMARY:Virtual Annual Membership Meeting - Washington, D.C. Estate Planning Council 
PRIORITY:3
BEGIN:VALARM
TRIGGER:PT18H
ACTION:DISPLAY
DESCRIPTION:Reminder
END:VALARM
END:VEVENT
END:VCALENDAR