BEGIN:VCALENDAR
PRODID:-//hacksw/handcal//NONSGML v1.0//EN
VERSION:2.0
METHOD:PUBLISH
BEGIN:VEVENT
DTSTART:20210513T160000Z
DTEND:20210513T173000Z
LOCATION:Virtual via Remo
UID:2076420210513T160000ZNew Member Virtual Luncheon | By Invitation Only
DTSTAMP:20260423T170535Z
DESCRIPTION:\nOctober 2020 and March 2021 new member classes, along with new Student members, are invited to join the Board for a virtual luncheon. Learn more about how you can get involved in the Council and benefit from your membership. There is no cost to attend. Highlights of the luncheon will include:\n Three-course lunch from the award-winning restaurant Kaliwa delivered to your home or office. A meal introduction by a Kaliwa chef Insider's Insights: an Intimate Conversation. An interview with Ed Beckwith and Larry Frazier Plenty of time for virtual networking \nThe luncheon will be held via the virtual platform Remo. You will receive registration details and participants' instructions prior to the luncheon.\n \nPlease use the registration form to select your preferred luncheon entree and provide your delivery address by May 7.\n \n \n
SUMMARY:New Member Virtual Luncheon | By Invitation Only - Washington, D.C. Estate Planning Council 
PRIORITY:3
BEGIN:VALARM
TRIGGER:PT18H
ACTION:DISPLAY
DESCRIPTION:Reminder
END:VALARM
END:VEVENT
END:VCALENDAR