BEGIN:VCALENDAR
PRODID:-//hacksw/handcal//NONSGML v1.0//EN
VERSION:2.0
METHOD:PUBLISH
BEGIN:VEVENT
DTSTART:20210429T160000Z
DTEND:20210429T170000Z
LOCATION:Via Zoom
UID:2090220210429T160000ZSpring Cleaning Virtual Golf Lesson
DTSTAMP:20260423T170342Z
DESCRIPTION:\nWork out the kinks .... before you hit the links!\n \nJoin us for a virtual golf lesson and informal lunchtime meet up with local golf pro Scott Wisnom, PGA. Scott will provide tips and ideas to improve your game just in time for the warm weather. Golfers at all skill levels will benefit from this lesson. Have a club handy and a space to swing. The session will include ample time for questions.\n \nScott Wisnom, PGA, has been a golf professional for 18 years, many of them in Maryland. Teaching is one of his favorite parts of the golf business. Helping people improve is one of the most rewarding aspects of being a golf professional. Scott is a conceptual teacher with a focus on fun for beginners and novice golfers. For advanced players, he focuses on fundamentals of the individual’s golf game and allowing students to confidently “swing their swing” – not someone else’s swing. He teaches fundamentals, proper set up and positions in the swing while focusing on appropriate harmony between our body and our golf club. \n \nLogistics:\n No cost to participate for members; guests are welcome when hosted by a member. Guest fee of $25 applies. Connection details will be provided prior to the webinar. \n\n
SUMMARY:Spring Cleaning Virtual Golf Lesson - Washington, D.C. Estate Planning Council 
PRIORITY:3
BEGIN:VALARM
TRIGGER:PT18H
ACTION:DISPLAY
DESCRIPTION:Reminder
END:VALARM
END:VEVENT
END:VCALENDAR