BEGIN:VCALENDAR
PRODID:-//hacksw/handcal//NONSGML v1.0//EN
VERSION:2.0
METHOD:PUBLISH
BEGIN:VEVENT
DTSTART:20250225T220000Z
DTEND:20250226T010000Z
LOCATION:The City Club of Washington |  555 13th St NW, Washington, DC 20004
UID:2715620250225T220000ZMembership Meeting | Race & Wealth Speaker Series
DTSTAMP:20260423T170419Z
DESCRIPTION:\nProgram Description and Benefits:\nThe Council's Race & Wealth Speaker Series began in 2023 to annually highlight and examine solutions for the pervasive racial wealth gap that exists locally and nationally.\n \nRegister by February 7 to receive a complimentary copy of Dr. Edward's book, Savings and Trust: The Rise and Betrayal of Freedman's Bank.\n \nThe Race & Wealth Speaker Series is supported by the generous, multi-year contributions of the following companies:\n Platinum Sponsors\n Glassman Wealth Services\n Howard Insurance\n J.P. Morgan\n Yeske Buie Silver Sponsors\n Cortland Valuation Group\n Greater Washington Community Foundation\n Harrison LLP\n Omega Wealth Management\n Pasternak & Fidis\n SageVest Wealth Management\n   \nSpeaker Biography: \nJustene Hill Edwards is an associate professor of history at the University of Virginia.  She is an expert in African American history, with a particular focus on the history of slavery and the evolution of Black economic life in America.  She is the author of Savings and Trust: The Rise and Betrayal of the Freedman’s Bank (W.W. Norton, 2024) and Unfree Markets: The Slaves’ Economy and the Rise of Capitalism in South Carolina (Columbia University Press, 2021).  Her next book, Inequality in America: A Concise History (W.W. Norton), considers how inequality has shaped American life, from the colonial era to the present.  Justene is a frequent public speaker on topics including African American history, the history of American slavery, racial capitalism, and the history of economic inequality in America.  She has won a variety of awards and fellowships, most recently the Andrew Carnegie Fellowship and the Mellon New Directions Fellowship.  Justene serves on the editorial boards of the University of Virginia Press, Enterprise & Society: The International Journal of Business History, and The Journal of the Civil War Era.  She is on the advisory boards of the Nau Center for Civil War History at the University of Virginia and the Program in Early American Economy & Society at the Library Company of Philadelphia.  In addition, Justene is a former trustee of the Business History Conference and a current trustee of the Midland School.  She received a B.A. in Spanish from Swarthmore College, an M.A. in African New World Studies from Florida International University, and a Ph.D. in History from Princeton University. \n \nLogistics:\n Fees: No cost for active members; $80 for guests and emeritus members Closest Metro: Metro Center Limited Parking is available in the building for a fee.   Registration and networking begin at 5 pm and the program begins at 5:20 pm. Reception following the presentation Guests are warmly welcome when accompanying a member host. A no show fee of $80 will be assessed to members who register but do not attend without prior cancelation.\n  
SUMMARY:Membership Meeting | Race & Wealth Speaker Series - Washington, D.C. Estate Planning Council 
PRIORITY:3
BEGIN:VALARM
TRIGGER:PT18H
ACTION:DISPLAY
DESCRIPTION:Reminder
END:VALARM
END:VEVENT
END:VCALENDAR